BEGIN:VCALENDAR
VERSION:2.0
PRODID:-//icj bagic - ECPv4.6.25//NONSGML v1.0//EN
CALSCALE:GREGORIAN
METHOD:PUBLISH
X-WR-CALNAME:icj bagic
X-ORIGINAL-URL:http://www.icj-bagic.be
X-WR-CALDESC:Évènements pour icj bagic
BEGIN:VEVENT
DTSTART;TZID=UTC+0:20170613T093000
DTEND;TZID=UTC+0:20170613T163000
DTSTAMP:20260421T094529
CREATED:20170504T140000Z
LAST-MODIFIED:20170710T140233Z
UID:784-1497346200-1497371400@www.icj-bagic.be
SUMMARY:2# DÉCRYPTAGE DES MÉDIAS
DESCRIPTION:  \nEn une journée\, découverte d’un outil pédagogique adapté aux jeunes\, ludique et participatif. Expérimentation de l’outil en Live puis débriefing collectif pour faciliter son utilisation dans son Centre de Jeunes. \n  \nOutils à découvrir au choix parmi: \n\n« Jeu de plateau cibercitoyenneté » par Wediactivist\n« Déconstruire les théories du complot » par BePAx et « E-engagement » par Médianimation\n« Décrypter la propagande » par Zin TV\n\n  \nPour les animateurs/informateurs qui veulent travailler le point de vue critique\, la déconstruction des messages médiatiques\, la citoyenneté en ligne\, l’accompagnement des jeunes sur les réseaux sociaux. \n  \n\n\n\nOù et quand? \nÀ l’Auberge de Jeunesse Génération Europe \n4 rue de l’Eléphant – 1080 Molenbeek-Saint-Jean \nLe mardi 13 juin 2017 de 9h30 à 16h30 \n  \nInscriptions avant le 2 juin 2017 \n\n\n\n\n\nVia ce lien Google Form ou le secrétariat de la FMJ ASBL au 04 223 64 16 \n  \nProgramme \n\n\n\n\n\nAccédez via ce lien au programme détaillé \n\n\n\n \n \n[vc_row_inner][vc_column_inner width= »1/3″][vc_btn title= »SUPPORT COMPLÉMENTAIRE » style= »3d » color= »grey » css_animation= »top-to-bottom » link= »url:url:http%3A%2F%2Fwww.icj-bagic.be%2Fwp-content%2Fuploads%2F2017%2F07%2FEux-cest-Nous-Support-compl%C3%A9mentaire-2.pdf||target:%20_blank » css= ».vc_custom_1499693826572{margin-top: 20px !important;} »]\n[/vc_column_inner][vc_column_inner width= »1/3″][vc_btn title= »RETOUR CRITIQUE SUR LES OUTILS » style= »3d » color= »grey » align= »left » css_animation= »top-to-bottom » link= »url:http%3A%2F%2Fwww.icj-bagic.be%2Fwp-content%2Fuploads%2F2017%2F07%2Fretour-critique-sur-les-outils-journ%C3%A9e-2.pdf||target:%20_blank » css= ».vc_custom_1499693866713{margin-top: 20px !important;} » el_class= ».style_title_buttons »][/vc_column_inner][vc_column_inner width= »1/3″][/vc_column_inner]\n  \n  \n  \n
URL:http://www.icj-bagic.be/event/2-decryptage-medias/
LOCATION:Auberge de Jeunesse Génération Europe\, 4 rue de l’Eléphant\, Molenbeek-Saint-Jean\, Bruxelles-Capitale\, 1080 \, Belgique
CATEGORIES:Calendrier
ATTACH;FMTTYPE=image/png:http://www.icj-bagic.be/wp-content/uploads/2017/03/eux_cest_nous_banniere_31mars2017_72pp_web.png
ORGANIZER;CN="ICJ%20BAGIC%20-%20Julie%20Reynaert":MAILTO:icj.bagic@gmail.com
END:VEVENT
END:VCALENDAR