BEGIN:VCALENDAR
VERSION:2.0
PRODID:-//icj bagic - ECPv4.6.25//NONSGML v1.0//EN
CALSCALE:GREGORIAN
METHOD:PUBLISH
X-WR-CALNAME:icj bagic
X-ORIGINAL-URL:http://www.icj-bagic.be
X-WR-CALDESC:Évènements pour icj bagic
BEGIN:VEVENT
DTSTART;TZID=UTC+0:20170428T093000
DTEND;TZID=UTC+0:20170428T160000
DTSTAMP:20260419T171154
CREATED:20170710T104549Z
LAST-MODIFIED:20170710T140000Z
UID:872-1493371800-1493395200@www.icj-bagic.be
SUMMARY:1# À LA RENCONTRE DE L’AUTRE
DESCRIPTION:\n\n\n  \nEn une journée\, découverte d’un outil pédagogique ludique et participatif qui permet d’ouvrir des discussions constructives avec les jeunes. Expérimentation de l’outil en Live puis débriefing collectif pour faciliter son utilisation sur le terrain. \n  \nOutils à découvrir au choix parmi: \n\n« Nomade Land » par les CIJ Couvin\, Rochefort et Namur\n« Mes Tissages de Vie » par le CIDJ\n« Décapsul’leurres » par le SEFOP\n\n  \nPour les animateurs/informateurs qui veulent aborder la question des stéréotypes\, des divergences d’opinion\, l’ouverture à la différence\, le rejet des autres\, les préjugés\,… Chacun repart avec un outil concret qu’il pourra utiliser directement! \n\n  \nOù et quand? \nAuberge de Jeunesse de Namur \n8 avenue Félicien Rops – 5000 Namur \nLe mardi 28 avril 2017 de 9h30 à 16h00 \n  \nInscriptions avant le 20 avril 2017 \n\n\nVia ce lien Google Form ou le secrétariat de la FMJ ASBL au 04 223 64 16 \n  \nProgramme \n\n\nAccédez via ce lien au programme détaillé \n\n\n\n\n \n \n[vc_row_inner][vc_column_inner width= »1/3″][vc_btn title= »SUPPORT COMPLÉMENTAIRE » style= »3d » color= »grey » css_animation= »top-to-bottom » link= »url:http%3A%2F%2Fwww.icj-bagic.be%2Fwp-content%2Fuploads%2F2017%2F07%2FEux-cest-Nous-Support-compl%C3%A9mentaire-1.pdf||target:%20_blank » css= ».vc_custom_1499693826572{margin-top: 20px !important;} »]\n[/vc_column_inner][vc_column_inner width= »1/3″][vc_btn title= »RETOUR CRITIQUE SUR LES OUTILS » style= »3d » color= »grey » align= »left » css_animation= »top-to-bottom » link= »url:http%3A%2F%2Fwww.icj-bagic.be%2Fwp-content%2Fuploads%2F2017%2F07%2Fretour-critique-sur-les-outils-journ%C3%A9e-1.pdf||target:%20_blank » css= ».vc_custom_1499693866713{margin-top: 20px !important;} » el_class= ».style_title_buttons »][/vc_column_inner][vc_column_inner width= »1/3″][/vc_column_inner]\n  \n  \n  \n
URL:http://www.icj-bagic.be/event/1-a-rencontre-de-lautre/
LOCATION:Auberge de Jeunesse de Namur\, 8 aveneue Félicien Rops\, Namur\, 5000\, Belgique
CATEGORIES:Calendrier
ATTACH;FMTTYPE=image/png:http://www.icj-bagic.be/wp-content/uploads/2017/03/eux_cest_nous_banniere_31mars2017_72pp_web.png
ORGANIZER;CN="ICJ%20BAGIC%20-%20Julie%20Reynaert":MAILTO:icj.bagic@gmail.com
END:VEVENT
END:VCALENDAR